BEGIN:VCALENDAR
VERSION:2.0
PRODID:-//Deutsche Kakteen-Gesellschaft e. V. - ECPv6.15.20//NONSGML v1.0//EN
CALSCALE:GREGORIAN
METHOD:PUBLISH
X-WR-CALNAME:Deutsche Kakteen-Gesellschaft e. V.
X-ORIGINAL-URL:https://www.dkg.eu
X-WR-CALDESC:Veranstaltungen für Deutsche Kakteen-Gesellschaft e. V.
REFRESH-INTERVAL;VALUE=DURATION:PT1H
X-Robots-Tag:noindex
X-PUBLISHED-TTL:PT1H
BEGIN:VTIMEZONE
TZID:Europe/Berlin
BEGIN:DAYLIGHT
TZOFFSETFROM:+0100
TZOFFSETTO:+0200
TZNAME:CEST
DTSTART:20210328T010000
END:DAYLIGHT
BEGIN:STANDARD
TZOFFSETFROM:+0200
TZOFFSETTO:+0100
TZNAME:CET
DTSTART:20211031T010000
END:STANDARD
BEGIN:DAYLIGHT
TZOFFSETFROM:+0100
TZOFFSETTO:+0200
TZNAME:CEST
DTSTART:20220327T010000
END:DAYLIGHT
BEGIN:STANDARD
TZOFFSETFROM:+0200
TZOFFSETTO:+0100
TZNAME:CET
DTSTART:20221030T010000
END:STANDARD
BEGIN:DAYLIGHT
TZOFFSETFROM:+0100
TZOFFSETTO:+0200
TZNAME:CEST
DTSTART:20230326T010000
END:DAYLIGHT
BEGIN:STANDARD
TZOFFSETFROM:+0200
TZOFFSETTO:+0100
TZNAME:CET
DTSTART:20231029T010000
END:STANDARD
END:VTIMEZONE
BEGIN:VEVENT
DTSTART;TZID=Europe/Berlin:20220526T100000
DTEND;TZID=Europe/Berlin:20220529T180000
DTSTAMP:20260421T123446
CREATED:20220405T063214Z
LAST-MODIFIED:20220405T063214Z
UID:13352-1653559200-1653847200@www.dkg.eu
SUMMARY:6. Dortmunder Kakteentage
DESCRIPTION:
URL:https://www.dkg.eu/event/6-dortmunder-kakteentage-2/
LOCATION:Botanischer Garten Rombergpark\, Mergelteichstraße 40\, Dortmund\, 44225\, Germany
CATEGORIES:Ausstellung,Börse
ORGANIZER;CN="DKG OG Dortmund":MAILTO:https://www.dkg.eu/ortsgruppen/ortsgruppe-dortmund/
END:VEVENT
BEGIN:VEVENT
DTSTART;TZID=Europe/Berlin:20220528T090000
DTEND;TZID=Europe/Berlin:20220529T160000
DTSTAMP:20260421T123446
CREATED:20220110T082022Z
LAST-MODIFIED:20220410T102443Z
UID:13009-1653728400-1653840000@www.dkg.eu
SUMMARY:Große Burgstädter Kakteenschau mit Pflanzenbörse
DESCRIPTION:Samstag von 9 bis 18 Uhr\nSonntag von 9 bis 16 Uhr
URL:https://www.dkg.eu/event/grosse-burgstaedter-kakteenschau-mit-pflanzenboerse/
LOCATION:Center Hotel Alte Spinnerei\, Chemnitzer Straße 89 - 91\, Burgstädt\, 09217
CATEGORIES:Ausstellung,Börse
END:VEVENT
END:VCALENDAR