BEGIN:VCALENDAR
VERSION:2.0
PRODID:-//Deutsche Kakteen-Gesellschaft e. V. - ECPv6.15.20//NONSGML v1.0//EN
CALSCALE:GREGORIAN
METHOD:PUBLISH
X-WR-CALNAME:Deutsche Kakteen-Gesellschaft e. V.
X-ORIGINAL-URL:https://www.dkg.eu
X-WR-CALDESC:Veranstaltungen für Deutsche Kakteen-Gesellschaft e. V.
REFRESH-INTERVAL;VALUE=DURATION:PT1H
X-Robots-Tag:noindex
X-PUBLISHED-TTL:PT1H
BEGIN:VTIMEZONE
TZID:Europe/Berlin
BEGIN:DAYLIGHT
TZOFFSETFROM:+0100
TZOFFSETTO:+0200
TZNAME:CEST
DTSTART:20210328T010000
END:DAYLIGHT
BEGIN:STANDARD
TZOFFSETFROM:+0200
TZOFFSETTO:+0100
TZNAME:CET
DTSTART:20211031T010000
END:STANDARD
BEGIN:DAYLIGHT
TZOFFSETFROM:+0100
TZOFFSETTO:+0200
TZNAME:CEST
DTSTART:20220327T010000
END:DAYLIGHT
BEGIN:STANDARD
TZOFFSETFROM:+0200
TZOFFSETTO:+0100
TZNAME:CET
DTSTART:20221030T010000
END:STANDARD
BEGIN:DAYLIGHT
TZOFFSETFROM:+0100
TZOFFSETTO:+0200
TZNAME:CEST
DTSTART:20230326T010000
END:DAYLIGHT
BEGIN:STANDARD
TZOFFSETFROM:+0200
TZOFFSETTO:+0100
TZNAME:CET
DTSTART:20231029T010000
END:STANDARD
END:VTIMEZONE
BEGIN:VEVENT
DTSTART;TZID=Europe/Berlin:20220507T080000
DTEND;TZID=Europe/Berlin:20220508T170000
DTSTAMP:20260420T115857
CREATED:20220311T085946Z
LAST-MODIFIED:20220311T085946Z
UID:13158-1651910400-1652029200@www.dkg.eu
SUMMARY:Kakteenausstellung
DESCRIPTION:Sa. 9–17 Uhr\nSo. 9–16 Uhr
URL:https://www.dkg.eu/event/kakteenausstellung-3/
LOCATION:Muldentalhalle\, Kirchberger Straße 5\, Wilkau-Haßlau\, Sachsen\, 08112\, Germany
CATEGORIES:Ausstellung
END:VEVENT
BEGIN:VEVENT
DTSTART;TZID=Europe/Berlin:20220508T100000
DTEND;TZID=Europe/Berlin:20220508T170000
DTSTAMP:20260420T115857
CREATED:20220104T084756Z
LAST-MODIFIED:20220104T084756Z
UID:12964-1652004000-1652029200@www.dkg.eu
SUMMARY:Kakteen- u. Pflanzenbörse mit Gartenbesichtigung
DESCRIPTION:
URL:https://www.dkg.eu/event/kakteen-u-pflanzenboerse-mit-gartenbesichtigung/
LOCATION:Familie Pendelin\, Hellenbach 20\, Dinkelsbühl\, 91550\, Germany
CATEGORIES:Börse,Offene Tür
END:VEVENT
BEGIN:VEVENT
DTSTART;TZID=Europe/Berlin:20220508T100000
DTEND;TZID=Europe/Berlin:20220508T170000
DTSTAMP:20260420T115857
CREATED:20220405T063723Z
LAST-MODIFIED:20220405T063743Z
UID:13356-1652004000-1652029200@www.dkg.eu
SUMMARY:Tag der offenen Tür
DESCRIPTION:
URL:https://www.dkg.eu/event/tag-der-offenen-tuer-2/
LOCATION:Stadtheim der Naturfreunde\, Darmstraße 4a\, Darmstadt\, 64287\, Germany
CATEGORIES:Offene Tür
END:VEVENT
END:VCALENDAR